BEGIN:VCALENDAR
VERSION:2.0
PRODID:-//hacksw/handcal//NONSGML v1.0//EN
BEGIN:VEVENT
SUMMARY:EVRY COURCOURONNES (91) / DAMES U15-U17
UID:38da4e34-ccae-485e-9be5-0f3dad933e83
DTSTART:20260328T230000Z
DTEND:20260329T230000Z
LOCATION:Localisation   
CATEGORIES:Sportif
STATUS:
URL;VALUE=URI:https://www.lagnypontcarrecyclisme.com/evenements/2026/03/29/evry-courcouronnes-91-dames-u15-u17-2435890
END:VEVENT
END:VCALENDAR
