BEGIN:VCALENDAR
VERSION:2.0
PRODID:-//hacksw/handcal//NONSGML v1.0//EN
BEGIN:VEVENT
SUMMARY:Villechetif (10)
UID:4a0eca4b-faf8-4a24-8a19-3d383a9ba01a
DTSTART:20260405T220000Z
DTEND:20260406T220000Z
LOCATION:Localisation   
CATEGORIES:Sportif
STATUS:
URL;VALUE=URI:https://www.lagnypontcarrecyclisme.com/evenements/2026/04/06/villechetif-10-2435892
END:VEVENT
END:VCALENDAR
